BEGIN:VCALENDAR
VERSION:2.0
PRODID:Events Booking
BEGIN:VEVENT
UID:69e7e92641868
SUMMARY:Walk to d'Feet MND - Canberra
DESCRIPTION:Register online here before the event
 Teams made up of family
 \, friends\, colleagues and individuals\, regardless of age or fitness lev
 els Walk to raise funds and awareness for research and support for people 
 living with motor neurone disease.
 The Walk is approximately 5km and is 
 wheelchair\, stroller and dogs on lead friendly. The Walk will start in Ro
 nd Terrace\, go around Lake Burley Griffin\, crossing Commonwealth Avenue 
 bridge\, then Kings Avenue bridge and returning to Rond Terrace.
LOCATION:Rond Terrace Parkes ACT 2600
DTSTART:20210418T000000Z
DTSTAMP:20260421T211622Z
ORGANIZER;CN=MNDNSW Website - Events:MAILTO:info@mndnsw.org.au
GEO:-35.291148;149.139201
X-APPLE-STRUCTURED-LOCATION;VALUE=URI;X-ADDRESS=Rond Terrace Parkes ACT 260
 0;X-APPLE-RADIUS=72;X-TITLE=Rond Terrace:-35.291148;149.139201
END:VEVENT
END:VCALENDAR