BEGIN:VCALENDAR
VERSION:2.0
PRODID:Events Booking
BEGIN:VEVENT
UID:69e7c055163f4
SUMMARY:Walk to d'Feet MND - Darwin
DESCRIPTION:Teams made up of family\, friends\, colleagues and individuals\
 , regardless of age or fitness levels Walk to raise funds and awareness fo
 r research and support for people living with motor neurone disease.
 Joi
 n us for our very first NT Walk event! The Walk will take place at the bea
 utiful Jingili Water Gardens\, weaving its way along a wheelchair and stro
 ller-friendly walk route.
LOCATION:Freshwater Drive
DTSTART:20210606T000000Z
DTSTAMP:20260421T182213Z
ORGANIZER;CN=MNDNSW Website - Events:MAILTO:info@mndnsw.org.au
GEO:-12.386266;130.867634
X-APPLE-STRUCTURED-LOCATION;VALUE=URI;X-ADDRESS=Freshwater Drive;X-APPLE-RA
 DIUS=72;X-TITLE=Jingili Water Gardens:-12.386266;130.867634
END:VEVENT
END:VCALENDAR