BEGIN:VCALENDAR
VERSION:2.0
PRODID:Events Booking
BEGIN:VEVENT
UID:69e708d265bcb
SUMMARY:Walk to d'Feet MND - Canberra
DESCRIPTION:Teams made up of family\, friends\, colleagues and individuals\
 , regardless of age or fitness levels Walk to raise funds and awareness fo
 r research and support for people living with motor neurone disease.&nbsp\
 ;The Walk is approximately 5km and is wheelchair\, stroller and dogs on le
 ad friendly. The Walk will be held at Rond Terrace\, weaving its way aroun
 d Lake Burley Griffin.&nbsp\;
LOCATION:Rond Terrace Parkes ACT 2600
DTSTART:20220319T230000Z
DTSTAMP:20220217T174406Z
ORGANIZER;CN=MNDNSW Website - Events:MAILTO:info@mndnsw.org.au
END:VEVENT
END:VCALENDAR