BEGIN:VCALENDAR
VERSION:2.0
PRODID:Events Booking
BEGIN:VEVENT
UID:69e6f367da768
SUMMARY:Walk to d'Feet MND - Forbes
DESCRIPTION:Teams made up of family\, friends\, colleagues and individuals\
 , regardless of age or fitness levels Walk to raise funds and awareness fo
 r research and support for people living with motor neurone disease.&nbsp\
 ;The Walk is approximately 5km and is wheelchair\, stroller and dogs on le
 ad friendly. The Walk will be held at Lions Park\, Forbes.
LOCATION:Junction St\, Forbes NSW 2871\, Australia
DTSTART:20220410T000000Z
DTSTAMP:20220217T175050Z
ORGANIZER;CN=MNDNSW Website - Events:MAILTO:info@mndnsw.org.au
GEO:-33.388488;148.001883
X-APPLE-STRUCTURED-LOCATION;VALUE=URI;X-ADDRESS=Junction St\, Forbes NSW 28
 71\, Australia;X-APPLE-RADIUS=72;X-TITLE=Lions Park\, Forbes:-33.388488;14
 8.001883
END:VEVENT
END:VCALENDAR