BEGIN:VCALENDAR
VERSION:2.0
PRODID:Events Booking
BEGIN:VEVENT
UID:69e5cf73be47a
SUMMARY:Virtual Walk to d'Feet MND
DESCRIPTION:Whether it's laps around your local park or your loungeroom\, o
 ur Virtual Walk to d'Feet MND gives you the option to choose your own Walk
  time and location anytime during 2023!&nbsp\;
DTSTART:20230605T230000Z
DTEND:20231231T125500Z
DTSTAMP:20220217T175636Z
ORGANIZER;CN=MNDNSW Website - Events:MAILTO:info@mndnsw.org.au
END:VEVENT
END:VCALENDAR