BEGIN:VCALENDAR
VERSION:2.0
PRODID:Events Booking
BEGIN:VEVENT
UID:69e6df5010e3a
SUMMARY:Walk to d'Feet MND - Illawarra
DESCRIPTION:Teams made up of family\, friends\, colleagues and individuals\
 , regardless of age or fitness levels Walk to raise funds and awareness fo
 r research and support for people living with motor neurone disease.
 The
  Walk is approximately 5km and is wheelchair\, stroller and dogs on lead f
 riendly. Walk starts and finishes at Bulli Reserve\, Trinity Row behind th
 e Bulli Surf Club.
LOCATION:12 Trinity Row\, Bulli NSW 2516\, Australia
DTSTART:20220515T000000Z
DTSTAMP:20220217T180304Z
ORGANIZER;CN=MNDNSW Website - Events:MAILTO:info@mndnsw.org.au
GEO:-34.339419;150.924891
X-APPLE-STRUCTURED-LOCATION;VALUE=URI;X-ADDRESS=12 Trinity Row\, Bulli NSW 
 2516\, Australia;X-APPLE-RADIUS=72;X-TITLE=Bulli Surf Club:-34.339419;150.
 924891
END:VEVENT
END:VCALENDAR