BEGIN:VCALENDAR
VERSION:2.0
PRODID:Events Booking
BEGIN:VEVENT
UID:69e6c9f795471
SUMMARY:Walk to d'Feet MND - Hunter
DESCRIPTION:Teams made up of family\, friends\, colleagues and individuals\
 , regardless of age or fitness levels Walk to raise funds and awareness fo
 r research and support for people living with motor neurone disease.
 Thi
 s year Hunter will be our first National Walk! The Walk is approximately 5
 km and is wheelchair\, stroller and dogs on lead friendly. Walk starts and
  finishes at Speers Point Park\, Creek Reserve Road\, Speers Point.
LOCATION:20 Park Rd\, Speers Point NSW 2284\, Australia
DTSTART:20220626T000000Z
DTSTAMP:20220217T180602Z
ORGANIZER;CN=MNDNSW Website - Events:MAILTO:info@mndnsw.org.au
GEO:-32.961673;151.618511
X-APPLE-STRUCTURED-LOCATION;VALUE=URI;X-ADDRESS=20 Park Rd\, Speers Point N
 SW 2284\, Australia;X-APPLE-RADIUS=72;X-TITLE=Speers Point Park:-32.961673
 ;151.618511
END:VEVENT
END:VCALENDAR