BEGIN:VCALENDAR
VERSION:2.0
PRODID:Events Booking
BEGIN:VEVENT
UID:69e77a1255a0f
SUMMARY:Walk to d'Feet MND - Port Macquarie
DESCRIPTION:Teams made up of family\, friends\, colleagues and individuals\
 , regardless of age or fitness levels Walk to raise funds and awareness fo
 r research and support for people living with motor neurone disease. Start
  at Westport Park\, The Walk is 5km route walking to Town Beach and return
 ing to Westport Park.
LOCATION:Cnr Buller Street and Park Street\, Port Macquarie NSW 2444
DTSTART:20220911T000000Z
DTSTAMP:20220217T180820Z
ORGANIZER;CN=MNDNSW Website - Events:MAILTO:info@mndnsw.org.au
GEO:-31.431313;152.899695
X-APPLE-STRUCTURED-LOCATION;VALUE=URI;X-ADDRESS=Cnr Buller Street and Park 
 Street\, Port Macquarie NSW 2444;X-APPLE-RADIUS=72;X-TITLE=Westport Park\,
  Port Macquarie:-31.431313;152.899695
END:VEVENT
END:VCALENDAR