BEGIN:VCALENDAR
VERSION:2.0
PRODID:Events Booking
BEGIN:VEVENT
UID:69e679e71231b
SUMMARY:Walk to d'Feet MND - Northern Rivers
DESCRIPTION:Teams made up of family\, friends\, colleagues and individuals\
 , regardless of age or fitness levels Walk to raise funds and awareness fo
 r research and support for people living with motor neurone disease.&nbsp\
 ;Held in Meldrum Park in Ballina\, the walk weaves its way along North Cre
 ek taking in the stunning views of The Serpentine\, heading towards Shaws 
 Bay and North Wall before returning to Meldrum Park.
LOCATION:Fox St & Norton St\, Ballina NSW 2478\, Australia
DTSTART:20221008T230000Z
DTSTAMP:20220217T181049Z
ORGANIZER;CN=MNDNSW Website - Events:MAILTO:info@mndnsw.org.au
GEO:-28.864932;153.570022
X-APPLE-STRUCTURED-LOCATION;VALUE=URI;X-ADDRESS=Fox St & Norton St\, Ballin
 a NSW 2478\, Australia;X-APPLE-RADIUS=72;X-TITLE=Meldrum Park:-28.864932;1
 53.570022
END:VEVENT
END:VCALENDAR