BEGIN:VCALENDAR
VERSION:2.0
PRODID:Events Booking
BEGIN:VEVENT
UID:69e5d03e5cea8
SUMMARY:Riddla MND 11th Golf Fundraiser
DESCRIPTION:Riddla MND Golf Fundraiser - Friday\, 2 June 2023Twin Creeks Go
 lf Course - 4 Ball Ambrose
LOCATION:10 Twin Creeks Dr\, Luddenham NSW 2745\, Australia
DTSTART:20230601T203000Z
DTSTAMP:20230405T194544Z
ORGANIZER;CN=MNDNSW Website - Events:MAILTO:info@mndnsw.org.au
GEO:-33.835633;150.760737
X-APPLE-STRUCTURED-LOCATION;VALUE=URI;X-ADDRESS=10 Twin Creeks Dr\, Luddenh
 am NSW 2745\, Australia;X-APPLE-RADIUS=72;X-TITLE=Twin Creeks Golf & Count
 ry Club:-33.835633;150.760737
END:VEVENT
END:VCALENDAR